BEGIN:VCALENDAR
VERSION:2.0
PRODID:-//Interfaith Council - ECPv6.15.20//NONSGML v1.0//EN
CALSCALE:GREGORIAN
METHOD:PUBLISH
X-ORIGINAL-URL:https://interfaithsn.org
X-WR-CALDESC:Events for Interfaith Council
REFRESH-INTERVAL;VALUE=DURATION:PT1H
X-Robots-Tag:noindex
X-PUBLISHED-TTL:PT1H
BEGIN:VTIMEZONE
TZID:UTC
BEGIN:STANDARD
TZOFFSETFROM:+0000
TZOFFSETTO:+0000
TZNAME:UTC
DTSTART:20240101T000000
END:STANDARD
END:VTIMEZONE
BEGIN:VEVENT
DTSTART;TZID=UTC:20250921T130000
DTEND;TZID=UTC:20250921T153000
DTSTAMP:20260426T023404
CREATED:20250902T024935Z
LAST-MODIFIED:20250902T024935Z
UID:31829-1758459600-1758468600@interfaithsn.org
SUMMARY:Singing Bowls and Chi Gong/ Tai Chi
DESCRIPTION:Sunday\, September 21\n1:00-2:00pm Singing Bowls with Teresa\n2:30-3:30 Chi Gong/ Tai Chi with Sasha
URL:https://interfaithsn.org/event/singing-bowls-and-chi-gong-tai-chi/
LOCATION:The Interfaith Contemplative Center\, 4770 Harrison Drive\, Paradise Park\, NV\, 89121\, United States
ATTACH;FMTTYPE=image/jpeg:https://interfaithsn.org/wp-content/uploads/2024/08/pexels-cottonbro-5602461-scaled.jpg
END:VEVENT
BEGIN:VEVENT
DTSTART;TZID=UTC:20250920T090000
DTEND;TZID=UTC:20250920T110000
DTSTAMP:20260426T023404
CREATED:20250917T170944Z
LAST-MODIFIED:20250917T170944Z
UID:31852-1758358800-1758366000@interfaithsn.org
SUMMARY:Zen Meditation Program
DESCRIPTION:An Introduction to Zen\nInterfaith Contemplative Center\n4770 Harrison Drive\, Las Vegas\nSeptember 20 from 9:00 AM to 11:00 AM \n\n\n\nOverview\nThis session offers a brief introduction to Zen\, providing participants with actual experience in Zen practice. \n\n\n\nI. What is Zen?\nThe session begins with the question\, “What is Zen?” and an introduction to the practice of meditation\, focusing on both sitting and walking forms. A Zen koan will be presented to illustrate the unique way Zen uses paradoxical questions or statements as a tool for meditation and self-inquiry.\n\n\n\nII. Sitting and Walking Meditation\nParticipants will receive practical guidance on sitting and walking meditation\, two central practices in Zen. The instruction will cover posture\, breathing\, and maintaining awareness during both seated and moving meditation.\n\n\n\nIII. Heart Sutra Recitation\nThe group will engage in the recitation of the Heart Sutra\, a key text in Mahayana Buddhism. This recitation provides an opportunity to experience the communal and contemplative aspects of Zen practice.\n\n\n\nIV. Tea and Conversation\nThe session will conclude with tea and conversation\, allowing participants to reflect on their experiences\, ask questions\, and connect with others in an informal setting. We invite everyone to be fully present as they drink their tea\, savoring each moment and sip of tea\, as a way to practice Zen in their everyday life.
URL:https://interfaithsn.org/event/zen-meditation-program/
LOCATION:The Interfaith Contemplative Center\, 4770 Harrison Drive\, Paradise Park\, NV\, 89121\, United States
ATTACH;FMTTYPE=image/jpeg:https://interfaithsn.org/wp-content/uploads/2025/02/pexels-paperpeacock-1585716.jpg
END:VEVENT
BEGIN:VEVENT
DTSTART;TZID=UTC:20250916T110000
DTEND;TZID=UTC:20250916T123000
DTSTAMP:20260426T023404
CREATED:20250902T024220Z
LAST-MODIFIED:20250902T024220Z
UID:31814-1758020400-1758025800@interfaithsn.org
SUMMARY:Timeless Tuesdays
DESCRIPTION:September 16\,23 and 30 \nTimeless Tuesdays\n11:00-11:30 Healing and communion Service with Rev Catherine Gregg\nNoon-12:30 Centering Prayer with Gard Jameson (online and in person at the Contemplative Center
URL:https://interfaithsn.org/event/timeless-tuesdays-35/
LOCATION:The Interfaith Contemplative Center\, 4770 Harrison Drive\, Paradise Park\, NV\, 89121\, United States
ATTACH;FMTTYPE=image/jpeg:https://interfaithsn.org/wp-content/uploads/2024/04/IMG_0303-rotated.jpg
END:VEVENT
BEGIN:VEVENT
DTSTART;TZID=UTC:20250914T130000
DTEND;TZID=UTC:20250914T153000
DTSTAMP:20260426T023404
CREATED:20250902T024726Z
LAST-MODIFIED:20250911T113936Z
UID:31825-1757854800-1757863800@interfaithsn.org
SUMMARY:Hospitality: An Interfaith Celebration and Tai Chi
DESCRIPTION:Sunday\, September 14\nHospitality: An Interfaith Celebration with Mukkades Kaplan from the Silver Sage Foundation 1:00-2:00pm\n2:30-3:30pm Tai Chi with Sasha
URL:https://interfaithsn.org/event/interfaith-taize-and-tai-chi/
LOCATION:The Interfaith Contemplative Center\, 4770 Harrison Drive\, Paradise Park\, NV\, 89121\, United States
ATTACH;FMTTYPE=image/jpeg:https://interfaithsn.org/wp-content/uploads/2024/09/pexels-thilipenravekumar-1656369-scaled.jpg
END:VEVENT
BEGIN:VEVENT
DTSTART;TZID=UTC:20250913T090000
DTEND;TZID=UTC:20250913T110000
DTSTAMP:20260426T023404
CREATED:20250902T024618Z
LAST-MODIFIED:20250902T024618Z
UID:31823-1757754000-1757761200@interfaithsn.org
SUMMARY:Zen Meditation
DESCRIPTION:Saturday\, September 13\n9-11:00am Zen Meditation with Cecilia
URL:https://interfaithsn.org/event/zen-meditation-2/
LOCATION:The Interfaith Contemplative Center\, 4770 Harrison Drive\, Paradise Park\, NV\, 89121\, United States
ATTACH;FMTTYPE=image/jpeg:https://interfaithsn.org/wp-content/uploads/2025/02/pexels-paperpeacock-1585716.jpg
END:VEVENT
BEGIN:VEVENT
DTSTART;TZID=UTC:20250909T103000
DTEND;TZID=UTC:20250909T123000
DTSTAMP:20260426T023404
CREATED:20250902T024136Z
LAST-MODIFIED:20250904T152251Z
UID:31812-1757413800-1757421000@interfaithsn.org
SUMMARY:Timeless Tuesdays
DESCRIPTION:September 9\,16\,23 and 30 \nTimeless Tuesdays\n10:30-11:15 tai Chi Chi Gong with Sasha\n11:00-11:30 Healing and communion Service with Rev Catherine Gregg\nNoon-12:30 Centering Prayer with Gard Jameson (online and in person at the Contemplative Center
URL:https://interfaithsn.org/event/timeless-tuesdays-34/
LOCATION:The Interfaith Contemplative Center\, 4770 Harrison Drive\, Paradise Park\, NV\, 89121\, United States
ATTACH;FMTTYPE=image/jpeg:https://interfaithsn.org/wp-content/uploads/2024/04/IMG_0303-rotated.jpg
END:VEVENT
BEGIN:VEVENT
DTSTART;TZID=UTC:20250906T090000
DTEND;TZID=UTC:20250906T130000
DTSTAMP:20260426T023404
CREATED:20250902T024451Z
LAST-MODIFIED:20250902T024529Z
UID:31820-1757149200-1757163600@interfaithsn.org
SUMMARY:Zen Meditation and Compassionate Communications
DESCRIPTION:Saturday\, September 6\n9-10:30. Zen Meditation with Cecilia includes sitting\, walking and tea meditation practices.\n11-1:00  Compassionate Communications session with Myisha Hill ( every first Saturday of the month thru December at 11-1pm)
URL:https://interfaithsn.org/event/zen-meditation/
LOCATION:The Interfaith Contemplative Center\, 4770 Harrison Drive\, Paradise Park\, NV\, 89121\, United States
ATTACH;FMTTYPE=image/jpeg:https://interfaithsn.org/wp-content/uploads/2025/02/pexels-paperpeacock-1585716.jpg
END:VEVENT
BEGIN:VEVENT
DTSTART;TZID=UTC:20250902T110000
DTEND;TZID=UTC:20250902T123000
DTSTAMP:20260426T023404
CREATED:20250902T024053Z
LAST-MODIFIED:20250902T024053Z
UID:31810-1756810800-1756816200@interfaithsn.org
SUMMARY:Timeless Tuesdays
DESCRIPTION:September 2\,9\,16\,23 and 30 \nTimeless Tuesdays\n11:00-11:30 Healing and communion Service with Rev Catherine Gregg\nNoon-12:30 Centering Prayer with Gard Jameson (online and in person at the Contemplative Center
URL:https://interfaithsn.org/event/timeless-tuesdays-33/
LOCATION:The Interfaith Contemplative Center\, 4770 Harrison Drive\, Paradise Park\, NV\, 89121\, United States
ATTACH;FMTTYPE=image/jpeg:https://interfaithsn.org/wp-content/uploads/2024/04/IMG_0303-rotated.jpg
END:VEVENT
BEGIN:VEVENT
DTSTART;TZID=UTC:20250830T093000
DTEND;TZID=UTC:20250830T120000
DTSTAMP:20260426T023404
CREATED:20250803T175049Z
LAST-MODIFIED:20250816T164536Z
UID:31796-1756546200-1756555200@interfaithsn.org
SUMMARY:Going Deeper
DESCRIPTION:Aug 30\nGoing Deeper\n9:30-noon\n\n\nCecilia Nona Reyes is a zen teacher in the Leere Wolke (Empty Cloud) lineage of Willigis Jaeger\, OSB\, Benedictine monk also known as Willigis Jaeger Kyo-un-Roshi\, with whom she completed her zen training at Benediktushof:  https://www.benediktushof-holzkirchen.com/\nCenter for Meditation and Mindfulness\, which Willigis established in Holzkirchen\, Germany.\n\nShe has practiced Zen for over 25 years under Fr. Greg Mayers\, Ruben Habito\, and Ryoun Roshi\, Abbot of Sanbo Zen International in Kamakura and Tokyo\, Japan\, as well as in the US and in Germany (with Willigis Jaeger\, OSB).\n\nOur program:\nI.  A brief introduction to Zen\nII.  Sitting and walking meditation\nIII.  Heart Sutra\nIV.  Q&A & Sharing with a cup of tea
URL:https://interfaithsn.org/event/going-deeper-8/
LOCATION:The Interfaith Contemplative Center\, 4770 Harrison Drive\, Paradise Park\, NV\, 89121\, United States
ATTACH;FMTTYPE=image/jpeg:https://interfaithsn.org/wp-content/uploads/2024/08/441181501_829809342518052_8135775521570024676_n.jpg
END:VEVENT
BEGIN:VEVENT
DTSTART;TZID=UTC:20250826T113000
DTEND;TZID=UTC:20250826T123000
DTSTAMP:20260426T023404
CREATED:20250803T174856Z
LAST-MODIFIED:20250803T174856Z
UID:31791-1756207800-1756211400@interfaithsn.org
SUMMARY:Timeless Tuesdays
DESCRIPTION:Timeless Tuesdays\nAug 26\n\n11:30 Healing and Communion Service\nNoon Centering Prayer
URL:https://interfaithsn.org/event/timeless-tuesdays-32/
LOCATION:The Interfaith Contemplative Center\, 4770 Harrison Drive\, Paradise Park\, NV\, 89121\, United States
ATTACH;FMTTYPE=image/jpeg:https://interfaithsn.org/wp-content/uploads/2024/04/IMG_0303-rotated.jpg
END:VEVENT
BEGIN:VEVENT
DTSTART;TZID=UTC:20250823T090000
DTEND;TZID=UTC:20250823T120000
DTSTAMP:20260426T023404
CREATED:20250823T031153Z
LAST-MODIFIED:20250823T031153Z
UID:31807-1755939600-1755950400@interfaithsn.org
SUMMARY:Permission to Pause and Building a Buddhist Altar
DESCRIPTION:August 23\, 2025\nPermission to Pause from 9:00-10:30am\nFollowed by Building a Buddhist Altar with Lacey Franz at 11:00am.
URL:https://interfaithsn.org/event/permission-to-pause-and-building-a-buddhist-altar/
LOCATION:The Interfaith Contemplative Center\, 4770 Harrison Drive\, Paradise Park\, NV\, 89121\, United States
ATTACH;FMTTYPE=image/jpeg:https://interfaithsn.org/wp-content/uploads/2024/10/pexels-pixabay-355863-scaled.jpg
END:VEVENT
BEGIN:VEVENT
DTSTART;TZID=UTC:20250819T113000
DTEND;TZID=UTC:20250819T123000
DTSTAMP:20260426T023404
CREATED:20250803T174820Z
LAST-MODIFIED:20250803T174820Z
UID:31789-1755603000-1755606600@interfaithsn.org
SUMMARY:Timeless Tuesdays
DESCRIPTION:Timeless Tuesdays\nAug 19 & 26\n\n11:30 Healing and Communion Service\nNoon Centering Prayer
URL:https://interfaithsn.org/event/timeless-tuesdays-31/
LOCATION:The Interfaith Contemplative Center\, 4770 Harrison Drive\, Paradise Park\, NV\, 89121\, United States
ATTACH;FMTTYPE=image/jpeg:https://interfaithsn.org/wp-content/uploads/2024/04/IMG_0303-rotated.jpg
END:VEVENT
BEGIN:VEVENT
DTSTART;TZID=UTC:20250817T130000
DTEND;TZID=UTC:20250817T140000
DTSTAMP:20260426T023404
CREATED:20250803T175007Z
LAST-MODIFIED:20250803T175412Z
UID:31794-1755435600-1755439200@interfaithsn.org
SUMMARY:Singing Bowls
DESCRIPTION:Aug 17\n1-2pm Singing Bowls
URL:https://interfaithsn.org/event/singing-bowls-5/
LOCATION:The Interfaith Contemplative Center\, 4770 Harrison Drive\, Paradise Park\, NV\, 89121\, United States
ATTACH;FMTTYPE=image/jpeg:https://interfaithsn.org/wp-content/uploads/2024/08/pexels-cottonbro-5602461-scaled.jpg
END:VEVENT
BEGIN:VEVENT
DTSTART;TZID=UTC:20250816T103000
DTEND;TZID=UTC:20250816T120000
DTSTAMP:20260426T023404
CREATED:20250803T175203Z
LAST-MODIFIED:20250806T164422Z
UID:31800-1755340200-1755345600@interfaithsn.org
SUMMARY:Creating a Buddhist Altar 
DESCRIPTION:August 31\n10:30-12\nCreating a Buddhist Altar
URL:https://interfaithsn.org/event/creating-a-buddhist-altar/
LOCATION:NV
ATTACH;FMTTYPE=image/jpeg:https://interfaithsn.org/wp-content/uploads/2025/02/pexels-paperpeacock-1585716.jpg
END:VEVENT
BEGIN:VEVENT
DTSTART;TZID=UTC:20250812T113000
DTEND;TZID=UTC:20250812T123000
DTSTAMP:20260426T023404
CREATED:20250803T174740Z
LAST-MODIFIED:20250803T174740Z
UID:31787-1754998200-1755001800@interfaithsn.org
SUMMARY:Timeless Tuesdays
DESCRIPTION:Timeless Tuesdays\nAug 12 19 & 26\n\n11:30 Healing and Communion Service\nNoon Centering Prayer
URL:https://interfaithsn.org/event/timeless-tuesdays-30/
LOCATION:The Interfaith Contemplative Center\, 4770 Harrison Drive\, Paradise Park\, NV\, 89121\, United States
ATTACH;FMTTYPE=image/jpeg:https://interfaithsn.org/wp-content/uploads/2024/04/IMG_0303-rotated.jpg
END:VEVENT
BEGIN:VEVENT
DTSTART;TZID=UTC:20250810T130000
DTEND;TZID=UTC:20250810T140000
DTSTAMP:20260426T023404
CREATED:20250803T175123Z
LAST-MODIFIED:20250803T175318Z
UID:31798-1754830800-1754834400@interfaithsn.org
SUMMARY:Taize Service 
DESCRIPTION:Aug 10\n1-2pm Taize Service\n\nTopic: Taize Contemplative Service\nTime: Aug 10\, 2025 01:00 PM Pacific Time (US and Canada)\nJoin Zoom Meeting\nhttps://us02web.zoom.us/j/89382347536?pwd=I5Z48PVSmbdlCvZCKAy4bKCCfi5EGz.1 \nMeeting ID: 893 8234 7536\nPasscode: 074621
URL:https://interfaithsn.org/event/taize-service/
LOCATION:The Interfaith Contemplative Center\, 4770 Harrison Drive\, Paradise Park\, NV\, 89121\, United States
ATTACH;FMTTYPE=image/jpeg:https://interfaithsn.org/wp-content/uploads/2025/08/Healing-and-Wholeness-Advert1754065958.jpg
END:VEVENT
BEGIN:VEVENT
DTSTART;TZID=UTC:20250805T113000
DTEND;TZID=UTC:20250805T123000
DTSTAMP:20260426T023404
CREATED:20250803T174658Z
LAST-MODIFIED:20250803T174658Z
UID:31785-1754393400-1754397000@interfaithsn.org
SUMMARY:Timeless Tuesdays 
DESCRIPTION:Timeless Tuesdays\nAug 5 12 19 & 26\n\n11:30 Healing and Communion Service\nNoon Centering Prayer
URL:https://interfaithsn.org/event/timeless-tuesdays-29/
LOCATION:The Interfaith Contemplative Center\, 4770 Harrison Drive\, Paradise Park\, NV\, 89121\, United States
ATTACH;FMTTYPE=image/jpeg:https://interfaithsn.org/wp-content/uploads/2024/04/IMG_0303-rotated.jpg
END:VEVENT
BEGIN:VEVENT
DTSTART;TZID=UTC:20250729T103000
DTEND;TZID=UTC:20250729T133000
DTSTAMP:20260426T023404
CREATED:20250702T002346Z
LAST-MODIFIED:20250702T002346Z
UID:31766-1753785000-1753795800@interfaithsn.org
SUMMARY:Timeless Tuesdays
DESCRIPTION:July 29\nTimeless Tuesdays\n10:30 Zen Meditation\n11:30  Healing Service\nNoon Centering Prayer\n1:00    Anti Racist Summer Movie Group
URL:https://interfaithsn.org/event/timeless-tuesdays-28/
LOCATION:The Interfaith Contemplative Center\, 4770 Harrison Drive\, Paradise Park\, NV\, 89121\, United States
ATTACH;FMTTYPE=image/jpeg:https://interfaithsn.org/wp-content/uploads/2024/04/IMG_0303-rotated.jpg
END:VEVENT
BEGIN:VEVENT
DTSTART;TZID=UTC:20250727T130000
DTEND;TZID=UTC:20250727T140000
DTSTAMP:20260426T023404
CREATED:20250702T003422Z
LAST-MODIFIED:20250722T225432Z
UID:31774-1753621200-1753624800@interfaithsn.org
SUMMARY:Taize and Tai Chi
DESCRIPTION:July 27\n1-2  Taize Worship Service\n2:30-3:30  Tai Chi with Sasha
URL:https://interfaithsn.org/event/singing-bowls-4/
LOCATION:The Interfaith Contemplative Center\, 4770 Harrison Drive\, Paradise Park\, NV\, 89121\, United States
ATTACH;FMTTYPE=image/jpeg:https://interfaithsn.org/wp-content/uploads/2024/08/pexels-cottonbro-5602461-scaled.jpg
END:VEVENT
BEGIN:VEVENT
DTSTART;TZID=UTC:20250726T140000
DTEND;TZID=UTC:20250726T160000
DTSTAMP:20260426T023404
CREATED:20250702T003643Z
LAST-MODIFIED:20250702T003643Z
UID:31776-1753538400-1753545600@interfaithsn.org
SUMMARY:Compassionate Communications Class
DESCRIPTION:July 26  2-4–Compassionate Communications Class
URL:https://interfaithsn.org/event/compassionate-communications-class/
LOCATION:The Interfaith Contemplative Center\, 4770 Harrison Drive\, Paradise Park\, NV\, 89121\, United States
ATTACH;FMTTYPE=image/jpeg:https://interfaithsn.org/wp-content/uploads/2024/08/pexels-mrkva-novosad-754062-scaled.jpg
END:VEVENT
BEGIN:VEVENT
DTSTART;TZID=UTC:20250722T103000
DTEND;TZID=UTC:20250722T133000
DTSTAMP:20260426T023404
CREATED:20250702T002021Z
LAST-MODIFIED:20250702T002021Z
UID:31764-1753180200-1753191000@interfaithsn.org
SUMMARY:Timeless Tuesdays 
DESCRIPTION:July 22 and 29\nTimeless Tuesdays\n10:30 Zen Meditation\n11:30  Healing Service\nNoon Centering Prayer\n1:00    Anti Racist Summer Movie Group
URL:https://interfaithsn.org/event/timeless-tuesdays-27/
LOCATION:The Interfaith Contemplative Center\, 4770 Harrison Drive\, Paradise Park\, NV\, 89121\, United States
ATTACH;FMTTYPE=image/jpeg:https://interfaithsn.org/wp-content/uploads/2024/04/IMG_0303-rotated.jpg
END:VEVENT
BEGIN:VEVENT
DTSTART;TZID=UTC:20250719T093000
DTEND;TZID=UTC:20250719T120000
DTSTAMP:20260426T023404
CREATED:20250702T003328Z
LAST-MODIFIED:20250705T205516Z
UID:31772-1752917400-1752926400@interfaithsn.org
SUMMARY:Going Deeper: THE ENNEAGRAM OF LETTING GO
DESCRIPTION:July 19 9:30-noon–Going Deeper \nOur contemplative experience in July will be a spiritual practice journey led by Rev. Gerry Jones using the image from the Enneagram as a process for deepening self understanding. Below is Rev. Gerry’s brief introduction to this practice. We will meet from 9:30 AM to Noon on Saturday\, July 19\, in-person at the Interfaith Contemplative Center (4770 Harrison Drive\, Las Vegas) and on-line through Zoom.\nTHE ENNEAGRAM OF LETTING GO \n“The Enneagram of Letting Go” is a practice that you can use at any time. It proceeds\nthrough nine steps corresponding to the nine points around the circumference of the\nEnneagram\, although these steps are not directly related to the personality types. The\ndiagram below illustrates the nine-step process. (Notice the first four start with “s\,” the\nsecond four with “r.”) \nThe process always begins with point Nine\, to which we have assigned the quality of\nPresence. The Presence allows us to see that we are in a state of identification in the\nfirst place. \nBy practicing “The Enneagram of Letting Go\,” our fundamental experience of ourselves\ndeepens and expands. We are more relaxed\, alive\, and connected with our own Being\nand with our surroundings\, and more open to grace. We may well be astonished at how\ndifferently we experience ourselves compared with the state we were in before we went\nthrough this process. \nI am looking forward to going on this journey with you all\, as we embark on the spiritual\npractice of “Letting Go.”
URL:https://interfaithsn.org/event/going-deeper-7/
LOCATION:The Interfaith Contemplative Center\, 4770 Harrison Drive\, Paradise Park\, NV\, 89121\, United States
ATTACH;FMTTYPE=image/jpeg:https://interfaithsn.org/wp-content/uploads/2024/08/441181501_829809342518052_8135775521570024676_n.jpg
END:VEVENT
BEGIN:VEVENT
DTSTART;TZID=UTC:20250715T103000
DTEND;TZID=UTC:20250715T133000
DTSTAMP:20260426T023404
CREATED:20250702T001920Z
LAST-MODIFIED:20250702T001920Z
UID:31762-1752575400-1752586200@interfaithsn.org
SUMMARY:Timeless Tuesdays 
DESCRIPTION:July 15\, 22 and 29\nTimeless Tuesdays\n10:30 Zen Meditation\n11:30  Healing Service\nNoon Centering Prayer\n1:00    Anti Racist Summer Movie Group
URL:https://interfaithsn.org/event/timeless-tuesdays-26/
LOCATION:The Interfaith Contemplative Center\, 4770 Harrison Drive\, Paradise Park\, NV\, 89121\, United States
ATTACH;FMTTYPE=image/jpeg:https://interfaithsn.org/wp-content/uploads/2024/04/IMG_0303-rotated.jpg
END:VEVENT
BEGIN:VEVENT
DTSTART;TZID=UTC:20250712T093000
DTEND;TZID=UTC:20250712T110000
DTSTAMP:20260426T023404
CREATED:20250702T003226Z
LAST-MODIFIED:20250702T003226Z
UID:31770-1752312600-1752318000@interfaithsn.org
SUMMARY:Permission to Pause with Renisha
DESCRIPTION:July 12  9:30-11  Permission to Pause with Renisha
URL:https://interfaithsn.org/event/permission-to-pause-with-renisha/
LOCATION:The Interfaith Contemplative Center\, 4770 Harrison Drive\, Paradise Park\, NV\, 89121\, United States
ATTACH;FMTTYPE=image/png:https://interfaithsn.org/wp-content/uploads/2025/06/4785638409829079278.png
END:VEVENT
BEGIN:VEVENT
DTSTART;TZID=UTC:20250708T103000
DTEND;TZID=UTC:20250708T133000
DTSTAMP:20260426T023404
CREATED:20250702T001820Z
LAST-MODIFIED:20250702T001820Z
UID:31760-1751970600-1751981400@interfaithsn.org
SUMMARY:Timeless Tuesdays 
DESCRIPTION:July 8\, 15\, 22 and 29\nTimeless Tuesdays\n10:30 Zen Meditation\n11:30  Healing Service\nNoon Centering Prayer\n1:00    Anti Racist Summer Movie Group
URL:https://interfaithsn.org/event/timeless-tuesdays-25/
LOCATION:The Interfaith Contemplative Center\, 4770 Harrison Drive\, Paradise Park\, NV\, 89121\, United States
ATTACH;FMTTYPE=image/jpeg:https://interfaithsn.org/wp-content/uploads/2024/04/IMG_0303-rotated.jpg
END:VEVENT
BEGIN:VEVENT
DTSTART;TZID=UTC:20250706T130000
DTEND;TZID=UTC:20250706T153000
DTSTAMP:20260426T023404
CREATED:20250702T003116Z
LAST-MODIFIED:20250702T003116Z
UID:31768-1751806800-1751815800@interfaithsn.org
SUMMARY:Taize and Tai Chi
DESCRIPTION:July 6\n1-2  Taize Worship Service\n2:30-3:30  Tai Chi with Sasha
URL:https://interfaithsn.org/event/taize-and-tai-chi/
LOCATION:The Interfaith Contemplative Center\, 4770 Harrison Drive\, Paradise Park\, NV\, 89121\, United States
ATTACH;FMTTYPE=image/jpeg:https://interfaithsn.org/wp-content/uploads/2024/09/pexels-thilipenravekumar-1656369-scaled.jpg
END:VEVENT
BEGIN:VEVENT
DTSTART;TZID=UTC:20250628T093000
DTEND;TZID=UTC:20250628T103000
DTSTAMP:20260426T023404
CREATED:20250615T211515Z
LAST-MODIFIED:20250615T211515Z
UID:31756-1751103000-1751106600@interfaithsn.org
SUMMARY:Permission to Pause: Restore Body\, Mind\, and Soul
DESCRIPTION:
URL:https://interfaithsn.org/event/permission-to-pause-restore-body-mind-and-soul/
LOCATION:The Interfaith Contemplative Center\, 4770 Harrison Drive\, Paradise Park\, NV\, 89121\, United States
ATTACH;FMTTYPE=image/png:https://interfaithsn.org/wp-content/uploads/2025/06/4785638409829079278.png
END:VEVENT
BEGIN:VEVENT
DTSTART;TZID=UTC:20250624T103000
DTEND;TZID=UTC:20250624T150000
DTSTAMP:20260426T023404
CREATED:20250603T172437Z
LAST-MODIFIED:20250603T172437Z
UID:31746-1750761000-1750777200@interfaithsn.org
SUMMARY:Timeless Tuesdays
DESCRIPTION:Timeless Tuesdays\nJune 24\n10:30 Zen Meditation with Zen Master Ji Haeng\n11:30 healing service and Eucharist offering\n12:00 centering Prayer\n1:30-3:00 See Me Believe Me anti-racist book study
URL:https://interfaithsn.org/event/timeless-tuesdays-24/
LOCATION:The Interfaith Contemplative Center\, 4770 Harrison Drive\, Paradise Park\, NV\, 89121\, United States
ATTACH;FMTTYPE=image/png:https://interfaithsn.org/wp-content/uploads/2025/06/Moment-Mind-flyer_crop.png
END:VEVENT
BEGIN:VEVENT
DTSTART;TZID=UTC:20250622T130000
DTEND;TZID=UTC:20250622T140000
DTSTAMP:20260426T023404
CREATED:20250603T172849Z
LAST-MODIFIED:20250603T172849Z
UID:31749-1750597200-1750600800@interfaithsn.org
SUMMARY:Singing Bowls
DESCRIPTION:June 22\n1-2pm\nSinging Bowls with Teresa
URL:https://interfaithsn.org/event/singing-bowls-3/
LOCATION:The Interfaith Contemplative Center\, 4770 Harrison Drive\, Paradise Park\, NV\, 89121\, United States
ATTACH;FMTTYPE=image/jpeg:https://interfaithsn.org/wp-content/uploads/2024/08/pexels-cottonbro-5602461-scaled.jpg
END:VEVENT
BEGIN:VEVENT
DTSTART;TZID=UTC:20250621T093000
DTEND;TZID=UTC:20250621T120000
DTSTAMP:20260426T023404
CREATED:20250612T174412Z
LAST-MODIFIED:20250612T174412Z
UID:31754-1750498200-1750507200@interfaithsn.org
SUMMARY:Going Deeper
DESCRIPTION:Our contemplative experience on Saturday\, June 21 from 9:30 AM to Noon will be an interactive sharing around a theme from Christian Scripture on the Road to Emmaus\, with a universal approach that embraces all spiritual traditions. We will be led by Rev. Linda Pilato\, who provides a brief introduction as follows: “Come\, let’s take a journey back to an earlier time (on the road to Emmaus). A time where people gathered around a table to find out more about the new movement: the Way. Together we can experience community like those people of long ago with a table mass which is open and welcoming to all believers and those of other faiths.”\n\nWe will gather both in person at the Interfaith Contemplative Center (4770 Harrison Dr\, Las Vegas) and on-line on Zoom. If you would like to participate\, please respond to me and I will send you a Zoom Invitation and the table mass materials.
URL:https://interfaithsn.org/event/going-deeper-6/
LOCATION:The Interfaith Contemplative Center\, 4770 Harrison Drive\, Paradise Park\, NV\, 89121\, United States
ATTACH;FMTTYPE=image/jpeg:https://interfaithsn.org/wp-content/uploads/2024/08/441181501_829809342518052_8135775521570024676_n.jpg
END:VEVENT
END:VCALENDAR