BEGIN:VCALENDAR
VERSION:2.0
PRODID:-//Interfaith Council - ECPv6.15.20//NONSGML v1.0//EN
CALSCALE:GREGORIAN
METHOD:PUBLISH
X-ORIGINAL-URL:https://interfaithsn.org
X-WR-CALDESC:Events for Interfaith Council
REFRESH-INTERVAL;VALUE=DURATION:PT1H
X-Robots-Tag:noindex
X-PUBLISHED-TTL:PT1H
BEGIN:VTIMEZONE
TZID:America/Los_Angeles
BEGIN:DAYLIGHT
TZOFFSETFROM:-0800
TZOFFSETTO:-0700
TZNAME:PDT
DTSTART:20240310T100000
END:DAYLIGHT
BEGIN:STANDARD
TZOFFSETFROM:-0700
TZOFFSETTO:-0800
TZNAME:PST
DTSTART:20241103T090000
END:STANDARD
BEGIN:DAYLIGHT
TZOFFSETFROM:-0800
TZOFFSETTO:-0700
TZNAME:PDT
DTSTART:20250309T100000
END:DAYLIGHT
BEGIN:STANDARD
TZOFFSETFROM:-0700
TZOFFSETTO:-0800
TZNAME:PST
DTSTART:20251102T090000
END:STANDARD
BEGIN:DAYLIGHT
TZOFFSETFROM:-0800
TZOFFSETTO:-0700
TZNAME:PDT
DTSTART:20260308T100000
END:DAYLIGHT
BEGIN:STANDARD
TZOFFSETFROM:-0700
TZOFFSETTO:-0800
TZNAME:PST
DTSTART:20261101T090000
END:STANDARD
BEGIN:DAYLIGHT
TZOFFSETFROM:-0800
TZOFFSETTO:-0700
TZNAME:PDT
DTSTART:20270314T100000
END:DAYLIGHT
BEGIN:STANDARD
TZOFFSETFROM:-0700
TZOFFSETTO:-0800
TZNAME:PST
DTSTART:20271107T090000
END:STANDARD
END:VTIMEZONE
BEGIN:VTIMEZONE
TZID:UTC
BEGIN:STANDARD
TZOFFSETFROM:+0000
TZOFFSETTO:+0000
TZNAME:UTC
DTSTART:20240101T000000
END:STANDARD
END:VTIMEZONE
BEGIN:VEVENT
DTSTART;TZID=America/Los_Angeles:20260124T180000
DTEND;TZID=America/Los_Angeles:20260124T190000
DTSTAMP:20260425T204011
CREATED:20251229T201510Z
LAST-MODIFIED:20251229T201510Z
UID:32043-1769277600-1769281200@interfaithsn.org
SUMMARY:Journey to the Arabian Nights
DESCRIPTION:January 24- Journey to the Arabian Nights with a tea gathering at The Cobblestone Cottage\, Buffalo and Sahara\, at 6:00pm- Fee: $68.00\nIf interested contact Sasha to sign up at 702-845-0917
URL:https://interfaithsn.org/event/journey-to-the-arabian-nights/
LOCATION:The Cobblestone Cottage\, 7795 W Sahara Ave Suite 108\, Las Vegas\, NV\, 89117\, United States
ATTACH;FMTTYPE=image/jpeg:https://interfaithsn.org/wp-content/uploads/2025/12/pexels-halid-elosman-3328515-28161238-scaled.jpg
END:VEVENT
BEGIN:VEVENT
DTSTART;TZID=America/Los_Angeles:20260120T111500
DTEND;TZID=America/Los_Angeles:20260120T123000
DTSTAMP:20260425T204011
CREATED:20251229T200635Z
LAST-MODIFIED:20251229T200635Z
UID:32032-1768907700-1768912200@interfaithsn.org
SUMMARY:Timeless Tuesdays
DESCRIPTION:Jan 20\,27 \nTimeless Tuesdays\n11:15-11:45 Healing and Communion Service with Rev Catherine Gregg\n12:00 Noon Centering Prayer online
URL:https://interfaithsn.org/event/timeless-tuesdays-48/
LOCATION:The Interfaith Contemplative Center\, 4770 Harrison Drive\, Paradise Park\, NV\, 89121\, United States
ATTACH;FMTTYPE=image/jpeg:https://interfaithsn.org/wp-content/uploads/2024/04/IMG_0311.jpg
END:VEVENT
BEGIN:VEVENT
DTSTART;TZID=America/Los_Angeles:20260117T090000
DTEND;TZID=America/Los_Angeles:20260117T130000
DTSTAMP:20260425T204011
CREATED:20251229T201150Z
LAST-MODIFIED:20260106T140941Z
UID:32038-1768640400-1768654800@interfaithsn.org
SUMMARY:Going Deeper Workshop on Anti-Racism
DESCRIPTION:January 17-Going Deeper Workshop on Anti-Racism in partnership with The First Christian Church\n9am-1:00pm\nHeld at The First Christian Church \, 101 South Ranch Drive\n\nWelcome to a New Year! You are invited to a unique contemplative experience this month to explore together how we can participate in a healing journey for ourselves and future generations committed to real change and a reparative future. On Saturday\, January 17\, 2026 from 9:00 AM through lunch\, we will gather at First Christian Church\, 101 S. Rancho Drive\, with author and activist Myisha T. Hill for a self-reflective process of our relationships with power\, privilege\, and racism. She will bring practices that include meditation\, reflection\, and sharing\, with follow up opportunities to continue learning and life application using her book\, “Heal Your Way Forward – The Co-Conspirators Guide to an Anti-Racist Future”. I am grateful to the First Christian Church community and the work of Cynthia Scott in planning and organizing this event\, including a lunch to follow from Noon to 1:00 PM. Donations are welcomed. This event will be in person only.
URL:https://interfaithsn.org/event/going-deeper-workshop-on-anti-racism/
LOCATION:The First Christian Church\, 101 South Ranch Drive \, Las Vegas\, NV\, 89106\, United States
ATTACH;FMTTYPE=image/jpeg:https://interfaithsn.org/wp-content/uploads/2025/12/pexels-polina-kovaleva-6185580-scaled.jpg
END:VEVENT
BEGIN:VEVENT
DTSTART;TZID=America/Los_Angeles:20260113T111500
DTEND;TZID=America/Los_Angeles:20260113T123000
DTSTAMP:20260425T204011
CREATED:20251229T200508Z
LAST-MODIFIED:20251229T200739Z
UID:32030-1768302900-1768307400@interfaithsn.org
SUMMARY:Timeless Tuesdays
DESCRIPTION:Jan 13\,20\,27 \nTimeless Tuesdays\n11:15-11:45 Healing and Communion Service with Rev Catherine Gregg\n12:00 Noon Centering Prayer online
URL:https://interfaithsn.org/event/timeless-tuesdays-47/
LOCATION:The Interfaith Contemplative Center\, 4770 Harrison Drive\, Paradise Park\, NV\, 89121\, United States
ATTACH;FMTTYPE=image/jpeg:https://interfaithsn.org/wp-content/uploads/2024/04/IMG_0311.jpg
END:VEVENT
BEGIN:VEVENT
DTSTART;TZID=America/Los_Angeles:20260106T111500
DTEND;TZID=America/Los_Angeles:20260106T123000
DTSTAMP:20260425T204011
CREATED:20251229T200411Z
LAST-MODIFIED:20251229T200747Z
UID:32028-1767698100-1767702600@interfaithsn.org
SUMMARY:Timeless Tuesdays
DESCRIPTION:Jan 6\,13\,20\,27 \nTimeless Tuesdays\n11:15-11:45 Healing and Communion Service with Rev Catherine Gregg\n12:00 Noon Centering Prayer online
URL:https://interfaithsn.org/event/timeless-tuesdays-46/
LOCATION:The Interfaith Contemplative Center\, 4770 Harrison Drive\, Paradise Park\, NV\, 89121\, United States
ATTACH;FMTTYPE=image/jpeg:https://interfaithsn.org/wp-content/uploads/2024/04/IMG_0311.jpg
END:VEVENT
BEGIN:VEVENT
DTSTART;TZID=America/Los_Angeles:20260103T120000
DTEND;TZID=America/Los_Angeles:20260103T143000
DTSTAMP:20260425T204011
CREATED:20251229T200124Z
LAST-MODIFIED:20251229T200124Z
UID:32024-1767441600-1767450600@interfaithsn.org
SUMMARY:Start 2026 Simply
DESCRIPTION:January 3-Start 2026 Simply\nNoon to 1  Quaker Talk on Simplicity with Sasha\n1:30-2:30  Mandala -making class with Rev Sharlyn Menard
URL:https://interfaithsn.org/event/start-2026-simply/
LOCATION:The Interfaith Contemplative Center\, 4770 Harrison Drive\, Paradise Park\, NV\, 89121\, United States
ATTACH;FMTTYPE=image/jpeg:https://interfaithsn.org/wp-content/uploads/2025/12/pexels-anntarazevich-6027785-scaled.jpg
END:VEVENT
BEGIN:VEVENT
DTSTART;TZID=America/Los_Angeles:20251231T160000
DTEND;TZID=America/Los_Angeles:20251231T180000
DTSTAMP:20260425T204011
CREATED:20251217T215324Z
LAST-MODIFIED:20251217T215324Z
UID:32020-1767196800-1767204000@interfaithsn.org
SUMMARY:New Years Eve Vigil
DESCRIPTION:2026\, A Sacred Heart Opening\, join us for a moment as we gather to cross a threshold of new beginnings\, personally & collectively. With Divine Intention\, we shall elevate our hearts\, minds\, bodies\, and souls\, inviting Spirit to touch and transform us… won’t you join us? \nDecember 31st\, 4:00-6:00pm\n4770 Harrison Dr.\, Las Vegas 89121
URL:https://interfaithsn.org/event/new-years-eve-vigil/
LOCATION:The Interfaith Contemplative Center\, 4770 Harrison Drive\, Paradise Park\, NV\, 89121\, United States
ATTACH;FMTTYPE=image/png:https://interfaithsn.org/wp-content/uploads/2025/12/NYE-Vigil-2.png
END:VEVENT
BEGIN:VEVENT
DTSTART;TZID=America/Los_Angeles:20251230T113000
DTEND;TZID=America/Los_Angeles:20251230T123000
DTSTAMP:20260425T204011
CREATED:20251116T172854Z
LAST-MODIFIED:20251116T172854Z
UID:31979-1767094200-1767097800@interfaithsn.org
SUMMARY:Timeless Tuesdays
DESCRIPTION:Dec 30                  Timeless Tuesdays\n11:30-noon         Healing and Communion Service\nnoon               Centering Prayer online
URL:https://interfaithsn.org/event/timeless-tuesdays-45/
LOCATION:The Interfaith Contemplative Center\, 4770 Harrison Drive\, Paradise Park\, NV\, 89121\, United States
ATTACH;FMTTYPE=image/jpeg:https://interfaithsn.org/wp-content/uploads/2024/04/IMG_0303-rotated.jpg
END:VEVENT
BEGIN:VEVENT
DTSTART;TZID=UTC:20251228T130000
DTEND;TZID=UTC:20251228T140000
DTSTAMP:20260425T204011
CREATED:20251116T173457Z
LAST-MODIFIED:20251116T173457Z
UID:31993-1766926800-1766930400@interfaithsn.org
SUMMARY:Winter Solstice Labyrinth Walk with Rev Sharlyn Menard
DESCRIPTION:Dec 28  1-2                Winter Solstice Labyrinth Walk with Rev Sharlyn Menard
URL:https://interfaithsn.org/event/winter-solstice-labyrinth-walk-with-rev-sharlyn-menard/
LOCATION:The Interfaith Contemplative Center\, 4770 Harrison Drive\, Paradise Park\, NV\, 89121\, United States
ATTACH;FMTTYPE=image/jpeg:https://interfaithsn.org/wp-content/uploads/2024/04/IMG_0305-rotated.jpg
END:VEVENT
BEGIN:VEVENT
DTSTART;TZID=America/Los_Angeles:20251223T113000
DTEND;TZID=America/Los_Angeles:20251223T123000
DTSTAMP:20260425T204011
CREATED:20251116T172817Z
LAST-MODIFIED:20251116T172817Z
UID:31977-1766489400-1766493000@interfaithsn.org
SUMMARY:Timeless Tuesdays
DESCRIPTION:Dec 23 and 30      Timeless Tuesdays\n11:30-noon         Healing and Communion Service\nnoon               Centering Prayer online
URL:https://interfaithsn.org/event/timeless-tuesdays-44/
LOCATION:The Interfaith Contemplative Center\, 4770 Harrison Drive\, Paradise Park\, NV\, 89121\, United States
ATTACH;FMTTYPE=image/jpeg:https://interfaithsn.org/wp-content/uploads/2024/04/IMG_0303-rotated.jpg
END:VEVENT
BEGIN:VEVENT
DTSTART;VALUE=DATE:20251222
DTEND;VALUE=DATE:20251223
DTSTAMP:20260425T204011
CREATED:20251116T173323Z
LAST-MODIFIED:20251125T172659Z
UID:31989-1766361600-1766447999@interfaithsn.org
SUMMARY:Advent : A Four-Day Experiential Journey
DESCRIPTION:Advent: A Four Day Experiential Journey at the Interfaith Center\n\nThursday\, Dec 4\, 11\,18\, and Monday Dec 22nd 9:30- noon\n\nThis Advent\, step beyond simply reading scripture and singing hymns. Because Advent isn’t only something to read about.  It is something to feel\, inhale\, embody and be transformed by.\n\nJoin us for a 4-day immersive experience that engages body\, mind and spirit as we prepare our hearts for Light’s arrival.\n\nEach session offers a different contemplative/performance engagement along with reflective moments designed to open us to wonder\, hope and presence.\n\nThis Advent adventure is sponsored by St. Marguerite Faith Community\, a fully inclusive member of the Independent Catholic Church.
URL:https://interfaithsn.org/event/advent-a-four-day-experiential-journey-4/
LOCATION:The Interfaith Contemplative Center\, 4770 Harrison Drive\, Paradise Park\, NV\, 89121\, United States
ATTACH;FMTTYPE=image/jpeg:https://interfaithsn.org/wp-content/uploads/2024/12/pexels-nubikini-714898-scaled.jpg
END:VEVENT
BEGIN:VEVENT
DTSTART;TZID=America/Los_Angeles:20251221T130000
DTEND;TZID=America/Los_Angeles:20251221T140000
DTSTAMP:20260425T204011
CREATED:20251217T152142Z
LAST-MODIFIED:20251217T152142Z
UID:32018-1766322000-1766325600@interfaithsn.org
SUMMARY:Taize: Entering Into the Light
DESCRIPTION:Taize service this Sunday at 1:00pm.\nENTERING INTO THE LIGHT:\nA celebration of music\, silence and chant as we pass through the Winter Solstice and enter into a new year of light.
URL:https://interfaithsn.org/event/taize-entering-into-the-light/
LOCATION:The Interfaith Contemplative Center\, 4770 Harrison Drive\, Paradise Park\, NV\, 89121\, United States
ATTACH;FMTTYPE=image/jpeg:https://interfaithsn.org/wp-content/uploads/2024/09/pexels-thilipenravekumar-1656369-scaled.jpg
END:VEVENT
BEGIN:VEVENT
DTSTART;TZID=America/Los_Angeles:20251220T093000
DTEND;TZID=America/Los_Angeles:20251220T133000
DTSTAMP:20260425T204011
CREATED:20251116T173420Z
LAST-MODIFIED:20251116T173420Z
UID:31991-1766223000-1766237400@interfaithsn.org
SUMMARY:Going Deeper and Chi Gong with Sasha 
DESCRIPTION:Dec. 20 9:30-noon          Going Deeper:  Moving from Lament to Joy with Rev. Catherine Gregg\n       12:30-1:30          Chi Gong with Sasha
URL:https://interfaithsn.org/event/going-deeper-and-chi-gong-with-sasha/
LOCATION:The Interfaith Contemplative Center\, 4770 Harrison Drive\, Paradise Park\, NV\, 89121\, United States
ATTACH;FMTTYPE=image/jpeg:https://interfaithsn.org/wp-content/uploads/2024/08/441181501_829809342518052_8135775521570024676_n.jpg
END:VEVENT
BEGIN:VEVENT
DTSTART;VALUE=DATE:20251218
DTEND;VALUE=DATE:20251219
DTSTAMP:20260425T204011
CREATED:20251116T173237Z
LAST-MODIFIED:20251125T172715Z
UID:31987-1766016000-1766102399@interfaithsn.org
SUMMARY:Advent : A Four-Day Experiential Journey
DESCRIPTION:Advent: A Four Day Experiential Journey at the Interfaith Center\n\nThursday\, Dec 4\, 11\,18\, and Monday Dec 22nd 9:30- noon\n\nThis Advent\, step beyond simply reading scripture and singing hymns. Because Advent isn’t only something to read about.  It is something to feel\, inhale\, embody and be transformed by.\n\nJoin us for a 4-day immersive experience that engages body\, mind and spirit as we prepare our hearts for Light’s arrival.\n\nEach session offers a different contemplative/performance engagement along with reflective moments designed to open us to wonder\, hope and presence.\n\nThis Advent adventure is sponsored by St. Marguerite Faith Community\, a fully inclusive member of the Independent Catholic Church.
URL:https://interfaithsn.org/event/advent-a-four-day-experiential-journey-3/
LOCATION:The Interfaith Contemplative Center\, 4770 Harrison Drive\, Paradise Park\, NV\, 89121\, United States
ATTACH;FMTTYPE=image/jpeg:https://interfaithsn.org/wp-content/uploads/2024/12/pexels-nubikini-714898-scaled.jpg
END:VEVENT
BEGIN:VEVENT
DTSTART;TZID=America/Los_Angeles:20251216T113000
DTEND;TZID=America/Los_Angeles:20251216T123000
DTSTAMP:20260425T204011
CREATED:20251116T172738Z
LAST-MODIFIED:20251116T172738Z
UID:31975-1765884600-1765888200@interfaithsn.org
SUMMARY:Timeless Tuesdays
DESCRIPTION:Dec 16\,23 and 30      Timeless Tuesdays\n11:30-noon                Healing and Communion Service\nnoon                   Centering Prayer online
URL:https://interfaithsn.org/event/timeless-tuesdays-43/
LOCATION:The Interfaith Contemplative Center\, 4770 Harrison Drive\, Paradise Park\, NV\, 89121\, United States
ATTACH;FMTTYPE=image/jpeg:https://interfaithsn.org/wp-content/uploads/2024/04/IMG_0303-rotated.jpg
END:VEVENT
BEGIN:VEVENT
DTSTART;VALUE=DATE:20251211
DTEND;VALUE=DATE:20251212
DTSTAMP:20260425T204011
CREATED:20251116T173203Z
LAST-MODIFIED:20251116T173557Z
UID:31985-1765411200-1765497599@interfaithsn.org
SUMMARY:Advent : A Four-Day Experiential Journey
DESCRIPTION:Advent: A Four Day Experiential Journey at the Interfaith Center\n\nThursday\, Dec 4\, 11\,18\, and Monday Dec 21st 9:30- noon\n\nThis Advent\, step beyond simply reading scripture and singing hymns. Because Advent isn’t only something to read about.  It is something to feel\, inhale\, embody and be transformed by.\n\nJoin us for a 4-day immersive experience that engages body\, mind and spirit as we prepare our hearts for Light’s arrival.\n\nEach session offers a different contemplative/performance engagement along with reflective moments designed to open us to wonder\, hope and presence.\n\nThis Advent adventure is sponsored by St. Marguerite Faith Community\, a fully inclusive member of the Independent Catholic Church.
URL:https://interfaithsn.org/event/advent-a-four-day-experiential-journey-2/
LOCATION:The Interfaith Contemplative Center\, 4770 Harrison Drive\, Paradise Park\, NV\, 89121\, United States
ATTACH;FMTTYPE=image/jpeg:https://interfaithsn.org/wp-content/uploads/2024/12/pexels-nubikini-714898-scaled.jpg
END:VEVENT
BEGIN:VEVENT
DTSTART;TZID=America/Los_Angeles:20251209T113000
DTEND;TZID=America/Los_Angeles:20251209T123000
DTSTAMP:20260425T204011
CREATED:20251116T172655Z
LAST-MODIFIED:20251116T172655Z
UID:31973-1765279800-1765283400@interfaithsn.org
SUMMARY:Timeless Tuesdays
DESCRIPTION:Dec 9\,16\,23 and 30      Timeless Tuesdays\n11:30-noon                Healing and Communion Service\nnoon                   Centering Prayer online
URL:https://interfaithsn.org/event/timeless-tuesdays-42/
LOCATION:The Interfaith Contemplative Center\, 4770 Harrison Drive\, Paradise Park\, NV\, 89121\, United States
ATTACH;FMTTYPE=image/jpeg:https://interfaithsn.org/wp-content/uploads/2024/04/IMG_0303-rotated.jpg
END:VEVENT
BEGIN:VEVENT
DTSTART;TZID=America/Los_Angeles:20251206T110000
DTEND;TZID=America/Los_Angeles:20251206T130000
DTSTAMP:20260425T204011
CREATED:20251116T173016Z
LAST-MODIFIED:20251206T122942Z
UID:31981-1765018800-1765026000@interfaithsn.org
SUMMARY:Compassionate Communications Session
DESCRIPTION:Dec 6  11-1pm            Compassionate Communications Session \nONLINE ONLY \nhttps://us02web.zoom.us/j/81761471072?pwd=3uXxV5JdR43t8XGG42e5oDba2ZM8bV.1
URL:https://interfaithsn.org/event/compassionate-communications-session-2/
LOCATION:NV
ATTACH;FMTTYPE=image/jpeg:https://interfaithsn.org/wp-content/uploads/2024/10/pexels-pixabay-355863-scaled.jpg
END:VEVENT
BEGIN:VEVENT
DTSTART;VALUE=DATE:20251204
DTEND;VALUE=DATE:20251205
DTSTAMP:20260425T204011
CREATED:20251116T173125Z
LAST-MODIFIED:20251125T172730Z
UID:31983-1764806400-1764892799@interfaithsn.org
SUMMARY:Advent : A Four-Day Experiential Journey
DESCRIPTION:Advent: A Four Day Experiential Journey at the Interfaith Center\n\nThursday\, Dec 4\, 11\,18\, and Monday Dec 22nd 9:30- noon\n\nThis Advent\, step beyond simply reading scripture and singing hymns. Because Advent isn’t only something to read about.  It is something to feel\, inhale\, embody and be transformed by.\n\nJoin us for a 4-day immersive experience that engages body\, mind and spirit as we prepare our hearts for Light’s arrival.\n\nEach session offers a different contemplative/performance engagement along with reflective moments designed to open us to wonder\, hope and presence.\n\nThis Advent adventure is sponsored by St. Marguerite Faith Community\, a fully inclusive member of the Independent Catholic Church.
URL:https://interfaithsn.org/event/advent-a-four-day-experiential-journey/
LOCATION:The Interfaith Contemplative Center\, 4770 Harrison Drive\, Paradise Park\, NV\, 89121\, United States
ATTACH;FMTTYPE=image/jpeg:https://interfaithsn.org/wp-content/uploads/2024/12/pexels-nubikini-714898-scaled.jpg
END:VEVENT
BEGIN:VEVENT
DTSTART;TZID=America/Los_Angeles:20251202T113000
DTEND;TZID=America/Los_Angeles:20251202T123000
DTSTAMP:20260425T204011
CREATED:20251116T172601Z
LAST-MODIFIED:20251116T172610Z
UID:31971-1764675000-1764678600@interfaithsn.org
SUMMARY:Timeless Tuesdays
DESCRIPTION:Dec 2\, 9\,16\,23 and 30      Timeless Tuesdays\n11:30-noon                Healing and Communion Service\nnoon                   Centering Prayer online
URL:https://interfaithsn.org/event/timeless-tuesdays-41/
LOCATION:The Interfaith Contemplative Center\, 4770 Harrison Drive\, Paradise Park\, NV\, 89121\, United States
ATTACH;FMTTYPE=image/jpeg:https://interfaithsn.org/wp-content/uploads/2024/04/IMG_0303-rotated.jpg
END:VEVENT
BEGIN:VEVENT
DTSTART;TZID=America/Los_Angeles:20251130T130000
DTEND;TZID=America/Los_Angeles:20251130T153000
DTSTAMP:20260425T204011
CREATED:20251116T223727Z
LAST-MODIFIED:20251116T223727Z
UID:32001-1764507600-1764516600@interfaithsn.org
SUMMARY:Revision 2025: Revisioning our Way Forward: Christianity as Action and Contemplation
DESCRIPTION:11/30\n1:00-3:30pm Video Replay\nRevision 2025: Revisioning our Way Forward: Christianity as Action and Contemplation\nWith Carmen Acevedo Butcher\, Brian McLaren\, James Finley and Randy Woodly
URL:https://interfaithsn.org/event/revision-2025-revisioning-our-way-forward-christianity-as-action-and-contemplation/
LOCATION:The Interfaith Contemplative Center\, 4770 Harrison Drive\, Paradise Park\, NV\, 89121\, United States
ATTACH;FMTTYPE=image/jpeg:https://interfaithsn.org/wp-content/uploads/2024/12/pexels-emrecan-2079661-scaled.jpg
END:VEVENT
BEGIN:VEVENT
DTSTART;TZID=America/Los_Angeles:20251125T113000
DTEND;TZID=America/Los_Angeles:20251125T123000
DTSTAMP:20260425T204011
CREATED:20251108T113824Z
LAST-MODIFIED:20251108T113824Z
UID:31899-1764070200-1764073800@interfaithsn.org
SUMMARY:Timeless Tuesdays
DESCRIPTION:Nov 25 Timeless Tuesdays\n11:30-12. Healing and Communion service\nNoon-12:30 Online Centering Prayer
URL:https://interfaithsn.org/event/timeless-tuesdays-40/
LOCATION:The Interfaith Contemplative Center\, 4770 Harrison Drive\, Paradise Park\, NV\, 89121\, United States
ATTACH;FMTTYPE=image/jpeg:https://interfaithsn.org/wp-content/uploads/2024/04/IMG_0303-rotated.jpg
END:VEVENT
BEGIN:VEVENT
DTSTART;TZID=America/Los_Angeles:20251123T160000
DTEND;TZID=America/Los_Angeles:20251123T173000
DTSTAMP:20260425T204011
CREATED:20251112T122943Z
LAST-MODIFIED:20251112T122943Z
UID:31927-1763913600-1763919000@interfaithsn.org
SUMMARY:Interfaith Thanksgiving Service
DESCRIPTION:Interfaith Thanksgiving Service\nSunday\, 23 November 2025\n4:00-5:30PM\nLas Vegas Baha’i Center\n7035 West Oakey\nLas Vegas\, NV 89117\n(or join via Zoom) \n 
URL:https://interfaithsn.org/event/interfaith-thanksgiving-service-2/
LOCATION:NV
ATTACH;FMTTYPE=image/jpeg:https://interfaithsn.org/wp-content/uploads/2025/11/IMG_7068.jpg
END:VEVENT
BEGIN:VEVENT
DTSTART;TZID=America/Los_Angeles:20251123T130000
DTEND;TZID=America/Los_Angeles:20251123T153000
DTSTAMP:20260425T204011
CREATED:20251116T223544Z
LAST-MODIFIED:20251116T223908Z
UID:31999-1763902800-1763911800@interfaithsn.org
SUMMARY:Revision 2025: ReRooting Christianity with Contemplative Wisdom and Practice
DESCRIPTION:11/23\n1:00-3:30pm Video Replay\nRevision 2025: ReRooting Christianity with Contemplative Wisdom and Practice with James Finley and Carmen Acevedo Butcher
URL:https://interfaithsn.org/event/revision-2025-rerooting-christianity-with-contemplative-wisdom-and-practice/
LOCATION:The Interfaith Contemplative Center\, 4770 Harrison Drive\, Paradise Park\, NV\, 89121\, United States
ATTACH;FMTTYPE=image/jpeg:https://interfaithsn.org/wp-content/uploads/2024/12/pexels-emrecan-2079661-scaled.jpg
END:VEVENT
BEGIN:VEVENT
DTSTART;TZID=America/Los_Angeles:20251122T113000
DTEND;TZID=America/Los_Angeles:20251122T123000
DTSTAMP:20260425T204011
CREATED:20251112T123606Z
LAST-MODIFIED:20251119T144527Z
UID:31929-1763811000-1763814600@interfaithsn.org
SUMMARY:Tai Chi
DESCRIPTION:November 22\, 2025\nTai Chi 11:30 -12:30pm
URL:https://interfaithsn.org/event/zen-meditation-tai-chi/
LOCATION:The Interfaith Contemplative Center\, 4770 Harrison Drive\, Paradise Park\, NV\, 89121\, United States
ATTACH;FMTTYPE=image/jpeg:https://interfaithsn.org/wp-content/uploads/2024/10/pexels-pixabay-355863-scaled.jpg
END:VEVENT
BEGIN:VEVENT
DTSTART;TZID=America/Los_Angeles:20251118T113000
DTEND;TZID=America/Los_Angeles:20251118T123000
DTSTAMP:20260425T204011
CREATED:20251108T113740Z
LAST-MODIFIED:20251108T113740Z
UID:31897-1763465400-1763469000@interfaithsn.org
SUMMARY:Timeless Tuesdays
DESCRIPTION:Nov 18\, 25 Timeless Tuesdays\n11:30-12. Healing and Communion service\nNoon-12:30 Online Centering Prayer
URL:https://interfaithsn.org/event/timeless-tuesdays-39/
LOCATION:The Interfaith Contemplative Center\, 4770 Harrison Drive\, Paradise Park\, NV\, 89121\, United States
ATTACH;FMTTYPE=image/jpeg:https://interfaithsn.org/wp-content/uploads/2024/04/IMG_0303-rotated.jpg
END:VEVENT
BEGIN:VEVENT
DTSTART;TZID=UTC:20251115T093000
DTEND;TZID=UTC:20251115T120000
DTSTAMP:20260425T204011
CREATED:20251104T114323Z
LAST-MODIFIED:20251104T114418Z
UID:31892-1763199000-1763208000@interfaithsn.org
SUMMARY:Invitation to Go Deeper
DESCRIPTION:Greetings! Our November contemplative experience will be led by Cynthia Scott\, S.D.\, on a message of hope from the beloved theologian\, mystic\, and social justice advocate Howard Thurman. We will gather at the Interfaith Contemplative Center\, 4770 Harrison Drive\, Las Vegas on Saturday\, November 15 from 9:30 AM to Noon.\n\nHAPPY BIRTHDAY HOWARD THURMAN –  This month we celebrate the 126th birthday of Howard Thurman – theologian\, mystic\, preacher\, educator\, activist and author – by sharing his messages of hope to strengthen us\, as he did the civil rights activists of the 1960’s\, for the journey ahead. In 1927 Thurman wrote “{One must} release to the full our greatest spiritual powers\, that there may be such a grand swell of spiritual energy that existing systems will be upset from sheer dynamic.” With our own internal spark of the divine and Thurman’s words to guide us\, may our continuing journey lead us to share in his awareness “that God {is} not yet done with me\, that I need not fear the darkness\, nor delude myself that the contradictions of life are final…”
URL:https://interfaithsn.org/event/invitation-to-go-deeper-3/
LOCATION:The Interfaith Contemplative Center\, 4770 Harrison Drive\, Paradise Park\, NV\, 89121\, United States
ATTACH;FMTTYPE=image/jpeg:https://interfaithsn.org/wp-content/uploads/2024/08/441181501_829809342518052_8135775521570024676_n.jpg
END:VEVENT
BEGIN:VEVENT
DTSTART;TZID=UTC:20251115T090000
DTEND;TZID=UTC:20251116T150000
DTSTAMP:20260425T204011
CREATED:20251104T103102Z
LAST-MODIFIED:20251104T103131Z
UID:31885-1763197200-1763305200@interfaithsn.org
SUMMARY:Celtic Wisdom 1 Online
DESCRIPTION:Saturday\, November 15\, 2025 9:00 AM\nSunday\, November 16\, 2025 3:00 PM \nhttps://www.earthandsoul.org/events/celtic-wisdom-1-online \nCeltic Wisdom 1 Online is co-led by Cami Twilling\, Director of Earth & Soul\, and Catherine Gregg\, Colleague Teacher of Earth & Soul. The format will be 2-hour Zoom sessions on Saturday morning\, Saturday afternoon and Sunday afternoon. We will hear from John Philip Newell via pre-recorded video sessions from Iona\, have a time of spiritual practice to listen to what is stirring within us followed by a short time for reflection in small groups as well as reflection and questions in the whole group. \nIn 2016 John Philip Newell began a teaching initiative of annual retreats to help reawaken awareness of the sacred in all things through the recovery of Celtic wisdom for today and to help translate this awareness into compassionate action in our lives and world. \nCeltic Wisdom 1 is the first of a three-part series of annual retreats offered by Earth & Soul in which we explore the sacredness of every human being\, the sacredness of the feminine\, and the sacredness of Earth. \nThe teachings of this retreat are based on John Philip’s award-winning book Sacred Earth Sacred Soul: Celtic Wisdom for Reawakening to What Our Souls Know and Healing the World (especially Chapters 1\, 2\, and 7 drawing on the wisdom of Pelagius\, Brigid\, and Teilhard de Chardin). \nThe essential text for the three-year Celtic Wisdom program is John Philip Newell’s Sacred Earth Sacred Soul. The shared prayer book for this program is Sounds of the Eternal: A Celtic Psalter. \nCeltic Wisdom 1 can be taken as a stand-alone retreat or in conjunction with Celtic Wisdom 2 and Celtic Wisdom 3 which can be attended in any order and at any of our retreat centers across the country or online. \nSaturday-session 1 \n8am-10am (PT)\n9am-11am (MT)\n10am-12pm (CT)\n11am-1pm (ET)\n4pm-6pm (GMT) \nSaturday-session 2 \n11am-1pm (PT)\n12pm-2pm (MT)\n1pm-3pm (CT)\n2pm-4pm (ET)\n7pm-9pm (GMT) \nSunday-session 3 \n1pm-3pm (PT)\n2pm-4pm (MT)\n3pm-5pm (CT)\n4pm-6pm (ET)\n9pm-11pm (GMT)
URL:https://interfaithsn.org/event/celtic-wisdom-1-online/
LOCATION:NV
ATTACH;FMTTYPE=image/png:https://interfaithsn.org/wp-content/uploads/2025/11/Screenshot-2025-11-04-103034.png
END:VEVENT
BEGIN:VEVENT
DTSTART;TZID=America/Los_Angeles:20251111T113000
DTEND;TZID=America/Los_Angeles:20251111T123000
DTSTAMP:20260425T204011
CREATED:20251108T113653Z
LAST-MODIFIED:20251108T113653Z
UID:31895-1762860600-1762864200@interfaithsn.org
SUMMARY:Timeless Tuesdays
DESCRIPTION:Nov 11\,18\,25 Timeless Tuesdays\n11:30-12. Healing and Communion service\nNoon-12:30 Online Centering Prayer
URL:https://interfaithsn.org/event/timeless-tuesdays-38/
LOCATION:The Interfaith Contemplative Center\, 4770 Harrison Drive\, Paradise Park\, NV\, 89121\, United States
ATTACH;FMTTYPE=image/jpeg:https://interfaithsn.org/wp-content/uploads/2024/04/IMG_0303-rotated.jpg
END:VEVENT
BEGIN:VEVENT
DTSTART;TZID=America/Los_Angeles:20251101T133000
DTEND;TZID=America/Los_Angeles:20251101T153000
DTSTAMP:20260425T204011
CREATED:20251008T110955Z
LAST-MODIFIED:20251008T111009Z
UID:31878-1762003800-1762011000@interfaithsn.org
SUMMARY:Day of the Dead Celebration / Celebración del Día  de Muertos
DESCRIPTION:Day of the Dead Celebration / Celebración del Día de Muertos \nJoin us for a meaningful afternoon of remembrance\, music\, and community. \nWe will honor our loved ones who have passed with a shared altar (ofrenda)\, candles\, and flowers.\nÚnase a nosotros para una tarde significativa de recuerdo\, música y comunidad.\nHonraremos a nuestros seres queridos que han fallecido con un altar compartido (ofrenda)\, velas y flores. \nDate / Fecha: Friday\, November 1 / Viernes\, 1 de noviembre\nTime / Hora: 1:30–3:30 PM\nPlace / Lugar: Interfaith Contemplative Center\n4770 Harrison Drive\, Las Vegas \nFor more information / Para más información: Text Julia: 702-268-6414
URL:https://interfaithsn.org/event/day-of-the-dead-celebration-celebracion-del-dia-de-muertos/
LOCATION:The Interfaith Contemplative Center\, 4770 Harrison Drive\, Paradise Park\, NV\, 89121\, United States
ATTACH;FMTTYPE=image/png:https://interfaithsn.org/wp-content/uploads/2025/10/Screenshot-2025-10-08-120452.png
END:VEVENT
END:VCALENDAR